BEGIN:VCALENDAR
VERSION:2.0
PRODID:-//Nederlands Transport Museum - ECPv6.0.9//NONSGML v1.0//EN
CALSCALE:GREGORIAN
METHOD:PUBLISH
X-ORIGINAL-URL:https://nederlandstransportmuseum.nl
X-WR-CALDESC:Events for Nederlands Transport Museum
REFRESH-INTERVAL;VALUE=DURATION:PT1H
X-Robots-Tag:noindex
X-PUBLISHED-TTL:PT1H
BEGIN:VTIMEZONE
TZID:Europe/Amsterdam
BEGIN:DAYLIGHT
TZOFFSETFROM:+0100
TZOFFSETTO:+0200
TZNAME:CEST
DTSTART:20220327T010000
END:DAYLIGHT
BEGIN:STANDARD
TZOFFSETFROM:+0200
TZOFFSETTO:+0100
TZNAME:CET
DTSTART:20221030T010000
END:STANDARD
END:VTIMEZONE
BEGIN:VEVENT
DTSTART;TZID=Europe/Amsterdam:20220917T100000
DTEND;TZID=Europe/Amsterdam:20220917T170000
DTSTAMP:20260425T191608
CREATED:20220905T080820Z
LAST-MODIFIED:20220908T064653Z
UID:2864-1663408800-1663434000@nederlandstransportmuseum.nl
SUMMARY:BRICKS IN TRANSPORT op zaterdag 17 en zondag 18 september 2022
DESCRIPTION:Voor het eerst in haar bestaan organiseert het Nederlands Transport Museum een transport evenement rond de bekende steentjes uit Denemarken. De mooiste transportmodellen gebouwd in een grote schaal zullen een weekend lang\, op ZATERDAG 17 en ZONDAG 18 september steeds van 10 tot 17 uur in ons museum te zien zijn.Wie heeft er nu niet met LEGO gespeeld ? Jong geleerd\, oud gedaan. LEGO fascineert en laat je nooit meer los. Het overkwam de bouwers die straks in ons museum met trots hun modellen tonen. En wat voor modellen ! Want ben jij ook zo onder de indruk van grote schepen of zo’n blinkende enorme Amerikaanse truck ? De in LEGO gebouwde modellen zijn minstens al even indrukwekkend en even fraai\, en dat tot in de details. \n    Wat natuurlijk niet mag ontbreken op dit bijzondere evenement zijn de treinen van de Trans Europ Express dienst. Drie grote\, in LEGO gebouwde T.E.E. treinen zullen te zien zijn in het T.E.E.–rijtuig dat op ons museumterrein staat. Eén ervan is een prachtig schaalmodel van onze eigen T.E.E. trein. Het model is in totaal maar liefst 2 mtr lang ! Deze treinmodellen zijn afkomstig van Lowlands L–Gauge Model Train Club. Een kleine groep LEGO bouwers die zich richten op het bouwen van realistische spoorwegen en treinen in de schaal 1:45. \n     \n\n \n\nZij komen met een grote treinbaan naar het N.T.M. waarop diverse treinen de hele dag door rond zullen rijden. De modellen die te zien zullen zijn\, zijn door hen zelf ontworpen en gebouwd\, vaak op basis van de originele tekeningen van die trein. De modellen variëren van stoomlocomotieven met houten rijtuigen tot moderne diesellocs. Maar er zijn ook treinstellen te zien. Het Nederlandse landschap zal niet ontbreken op deze bijzondere modelbaan. En net als in het echt rijdt door dat landschap soms een internationale trein. Geweldig om te zien ente beleven.Nieuwsgierig geworden ? Kom dan op zaterdag 17 of zondag 18 september naar het N.T.M. en krijg voor de prijs van een toegangskaart zowel de LEGO modellen als de echte voertuigen uit onze rijke transportgeschiedenis te zien !! BRICKS IN TRANSPORT is uniek en de modellen van een hoog niveau. Dit mag je niet missen. \n  \nPRAKTISCHE INFO– ons museum biedt GEEN LUNCHFACILITEIT– Parkeren: gratis op ons terrein of nabije omgeving– Toegangsprijs:volwassenen 10 euro\, kinderen 4 t/m 12 jaar 7 euro\,\n    < 4 jaar gratis.\n \n  \n\n​
URL:https://nederlandstransportmuseum.nl/evenement/bricks-in-transport-op-zaterdag-17-en-zondag-18-september-2022/
LOCATION:Nederlands Transport Museum\, Lucas Bolsstraat 7\, Nieuw-Vennep\, NH\, 2152CZ\, Netherlands
ATTACH;FMTTYPE=image/jpeg:https://nederlandstransportmuseum.nl/cms/wp-content/uploads/2022/08/LEGO-modelbaan-1.jpg
ORGANIZER;CN="Nederlands%20Transport%20Museum":MAILTO:olga.kat@sntm.nl
END:VEVENT
BEGIN:VEVENT
DTSTART;TZID=Europe/Amsterdam:20220918T100000
DTEND;TZID=Europe/Amsterdam:20220918T170000
DTSTAMP:20260425T191608
CREATED:20220905T081039Z
LAST-MODIFIED:20220908T064738Z
UID:2870-1663495200-1663520400@nederlandstransportmuseum.nl
SUMMARY:BRICKS IN TRANSPORT op zaterdag 17 en zondag 18 september 2022
DESCRIPTION:Voor het eerst in haar bestaan organiseert het Nederlands Transport Museum een transport evenement rond de bekende steentjes uit Denemarken. De mooiste transportmodellen gebouwd in een grote schaal zullen een weekend lang\, op ZATERDAG 17 en ZONDAG 18 september steeds van 10 tot 17 uur in ons museum te zien zijn.Wie heeft er nu niet met LEGO gespeeld ? Jong geleerd\, oud gedaan. LEGO fascineert en laat je nooit meer los. Het overkwam de bouwers die straks in ons museum met trots hun modellen tonen. En wat voor modellen ! Want ben jij ook zo onder de indruk van grote schepen of zo’n blinkende enorme Amerikaanse truck ? De in LEGO gebouwde modellen zijn minstens al even indrukwekkend en even fraai\, en dat tot in de details. \n    Wat natuurlijk niet mag ontbreken op dit bijzondere evenement zijn de treinen van de Trans Europ Express dienst. Drie grote\, in LEGO gebouwde T.E.E. treinen zullen te zien zijn in het T.E.E.–rijtuig dat op ons museumterrein staat. Eén ervan is een prachtig schaalmodel van onze eigen T.E.E. trein. Het model is in totaal maar liefst 2 mtr lang ! Deze treinmodellen zijn afkomstig van Lowlands L–Gauge Model Train Club. Een kleine groep LEGO bouwers die zich richten op het bouwen van realistische spoorwegen en treinen in de schaal 1:45. \n     \n\n \n\nZij komen met een grote treinbaan naar het N.T.M. waarop diverse treinen de hele dag door rond zullen rijden. De modellen die te zien zullen zijn\, zijn door hen zelf ontworpen en gebouwd\, vaak op basis van de originele tekeningen van die trein. De modellen variëren van stoomlocomotieven met houten rijtuigen tot moderne diesellocs. Maar er zijn ook treinstellen te zien. Het Nederlandse landschap zal niet ontbreken op deze bijzondere modelbaan. En net als in het echt rijdt door dat landschap soms een internationale trein. Geweldig om te zien ente beleven.Nieuwsgierig geworden ? Kom dan op zaterdag 17 of zondag 18 september naar het N.T.M. en krijg voor de prijs van een toegangskaart zowel de LEGO modellen als de echte voertuigen uit onze rijke transportgeschiedenis te zien !! BRICKS IN TRANSPORT is uniek en de modellen van een hoog niveau. Dit mag je niet missen. \n  \nPRAKTISCHE INFO– ons museum biedt GEEN LUNCHFACILITEIT– Parkeren: gratis op ons terrein of nabije omgeving– Toegangsprijs:volwassenen 10 euro\, kinderen 4 t/m 12 jaar 7 euro\,\n    < 4 jaar gratis.\n \n  \n\n​
URL:https://nederlandstransportmuseum.nl/evenement/bricks-in-transport-op-zaterdag-17-en-zondag-18-september-2022-2/
LOCATION:Nederlands Transport Museum\, Lucas Bolsstraat 7\, Nieuw-Vennep\, NH\, 2152CZ\, Netherlands
ATTACH;FMTTYPE=image/jpeg:https://nederlandstransportmuseum.nl/cms/wp-content/uploads/2022/08/LEGO-modelbaan-1.jpg
ORGANIZER;CN="Nederlands%20Transport%20Museum":MAILTO:olga.kat@sntm.nl
END:VEVENT
END:VCALENDAR